BEGIN:VCALENDAR
VERSION:2.0
PRODID:-//WRTP | BIG STEP - ECPv6.15.20//NONSGML v1.0//EN
CALSCALE:GREGORIAN
METHOD:PUBLISH
X-ORIGINAL-URL:https://wrtp.org
X-WR-CALDESC:Events for WRTP | BIG STEP
REFRESH-INTERVAL;VALUE=DURATION:PT1H
X-Robots-Tag:noindex
X-PUBLISHED-TTL:PT1H
BEGIN:VTIMEZONE
TZID:America/Chicago
BEGIN:DAYLIGHT
TZOFFSETFROM:-0600
TZOFFSETTO:-0500
TZNAME:CDT
DTSTART:20250309T080000
END:DAYLIGHT
BEGIN:STANDARD
TZOFFSETFROM:-0500
TZOFFSETTO:-0600
TZNAME:CST
DTSTART:20251102T070000
END:STANDARD
BEGIN:DAYLIGHT
TZOFFSETFROM:-0600
TZOFFSETTO:-0500
TZNAME:CDT
DTSTART:20260308T080000
END:DAYLIGHT
BEGIN:STANDARD
TZOFFSETFROM:-0500
TZOFFSETTO:-0600
TZNAME:CST
DTSTART:20261101T070000
END:STANDARD
BEGIN:DAYLIGHT
TZOFFSETFROM:-0600
TZOFFSETTO:-0500
TZNAME:CDT
DTSTART:20270314T080000
END:DAYLIGHT
BEGIN:STANDARD
TZOFFSETFROM:-0500
TZOFFSETTO:-0600
TZNAME:CST
DTSTART:20271107T070000
END:STANDARD
END:VTIMEZONE
BEGIN:VEVENT
DTSTART;TZID=America/Chicago:20260622T080000
DTEND;TZID=America/Chicago:20260622T140000
DTSTAMP:20260421T201723
CREATED:20260217T203122Z
LAST-MODIFIED:20260218T202443Z
UID:10006597-1782115200-1782136800@wrtp.org
SUMMARY:2026 Summer Trades Academy: Eau Claire
DESCRIPTION:Current High School Juniors & Seniors: Want to learn more about a career in the skilled trades? \nTry WRTP | BIG STEP’s 2026 Eau Claire Summer Trades Academy this June. Get exposure and explore the career options in the construction skilled trades! \n\nVisit trade halls and contractor facilities\nWatch live demonstrations\nParticipate in hands-on activities\nLearn about the apprenticeship process in union construction\n\nDates:\nMonday\, June 22 – Friday\, June 26 | 8 AM – 2 PM \nRegistration required by June 5\, 2026 \nRequirements:\nMust attend an info session with a parent or guardian and complete the registration process to participate in the Summer Trades Academy in June. \nContact Annie Brunn for more info:\n(534) 235-9019 or abrunn@wrtp.org \nLearn More:\n\n                \n                        Name(Required)\n                            \n                            \n                                                    \n                                                    First\n                                                \n                            \n                            \n                                                    \n                                                    Last\n                                                \n                            \n                        Email(Required)\n                            \n                        Phone(Required)Date of Birth(Required)\n                            \n                            MM slash DD slash YYYY\n                        \n                        Message(Required)\n          \n            \n            \n            \n            \n            \n            \n            \n            \n            \n            \n            \n            \n            \n        \n                        \n                        \nWRTP | BIG STEP is an equal opportunity employer and service provider and prohibits discrimination and harassment of any type without regard to race\, color\, religion\, age\, sex\, national origin\, disability status\, genetics\, protected veteran status\, sexual orientation\, gender identity or expression\, or any other characteristic protected by federal\, state\, or local laws in any of its activities or operations. \nReasonable accommodations are available to ensure that people with disabilities have an equal opportunity to enjoy programs\, services\, and activities. \nTo request information in an alternate format\, including language assistance or translation of the information\, please contact us at (414) 342-9787. Deaf\, hard-of-hearing\, or speech-impaired callers can contact us through Wisconsin Relay Service at 7-1-1.
URL:https://wrtp.org/event/2026-summer-trades-academy-eau-claire/2026-06-22/
LOCATION:UA Local 434 Union Office & Training Facilities\, W3380 State Rd 37\, Eau Claire\, Wisconsin\, 54701
ATTACH;FMTTYPE=image/jpeg:https://wrtp.org/wp-content/uploads/2026/02/2026-Summer-Trades-Academy-Eau-Claire.jpg
END:VEVENT
BEGIN:VEVENT
DTSTART;TZID=America/Chicago:20260623T080000
DTEND;TZID=America/Chicago:20260623T140000
DTSTAMP:20260421T201723
CREATED:20260217T203122Z
LAST-MODIFIED:20260218T202443Z
UID:10006598-1782201600-1782223200@wrtp.org
SUMMARY:2026 Summer Trades Academy: Eau Claire
DESCRIPTION:Current High School Juniors & Seniors: Want to learn more about a career in the skilled trades? \nTry WRTP | BIG STEP’s 2026 Eau Claire Summer Trades Academy this June. Get exposure and explore the career options in the construction skilled trades! \n\nVisit trade halls and contractor facilities\nWatch live demonstrations\nParticipate in hands-on activities\nLearn about the apprenticeship process in union construction\n\nDates:\nMonday\, June 22 – Friday\, June 26 | 8 AM – 2 PM \nRegistration required by June 5\, 2026 \nRequirements:\nMust attend an info session with a parent or guardian and complete the registration process to participate in the Summer Trades Academy in June. \nContact Annie Brunn for more info:\n(534) 235-9019 or abrunn@wrtp.org \nLearn More:\n                \n                        Name(Required)\n                            \n                            \n                                                    \n                                                    First\n                                                \n                            \n                            \n                                                    \n                                                    Last\n                                                \n                            \n                        Email(Required)\n                            \n                        Phone(Required)Date of Birth(Required)\n                            \n                            MM slash DD slash YYYY\n                        \n                        Message(Required)\n          \n            \n            \n            \n            \n            \n            \n            \n            \n            \n            \n            \n            \n            \n        \n                        \n                        \nWRTP | BIG STEP is an equal opportunity employer and service provider and prohibits discrimination and harassment of any type without regard to race\, color\, religion\, age\, sex\, national origin\, disability status\, genetics\, protected veteran status\, sexual orientation\, gender identity or expression\, or any other characteristic protected by federal\, state\, or local laws in any of its activities or operations. \nReasonable accommodations are available to ensure that people with disabilities have an equal opportunity to enjoy programs\, services\, and activities. \nTo request information in an alternate format\, including language assistance or translation of the information\, please contact us at (414) 342-9787. Deaf\, hard-of-hearing\, or speech-impaired callers can contact us through Wisconsin Relay Service at 7-1-1.
URL:https://wrtp.org/event/2026-summer-trades-academy-eau-claire/2026-06-23/
LOCATION:UA Local 434 Union Office & Training Facilities\, W3380 State Rd 37\, Eau Claire\, Wisconsin\, 54701
ATTACH;FMTTYPE=image/jpeg:https://wrtp.org/wp-content/uploads/2026/02/2026-Summer-Trades-Academy-Eau-Claire.jpg
END:VEVENT
BEGIN:VEVENT
DTSTART;TZID=America/Chicago:20260624T080000
DTEND;TZID=America/Chicago:20260624T140000
DTSTAMP:20260421T201723
CREATED:20260217T203122Z
LAST-MODIFIED:20260218T202443Z
UID:10006599-1782288000-1782309600@wrtp.org
SUMMARY:2026 Summer Trades Academy: Eau Claire
DESCRIPTION:Current High School Juniors & Seniors: Want to learn more about a career in the skilled trades? \nTry WRTP | BIG STEP’s 2026 Eau Claire Summer Trades Academy this June. Get exposure and explore the career options in the construction skilled trades! \n\nVisit trade halls and contractor facilities\nWatch live demonstrations\nParticipate in hands-on activities\nLearn about the apprenticeship process in union construction\n\nDates:\nMonday\, June 22 – Friday\, June 26 | 8 AM – 2 PM \nRegistration required by June 5\, 2026 \nRequirements:\nMust attend an info session with a parent or guardian and complete the registration process to participate in the Summer Trades Academy in June. \nContact Annie Brunn for more info:\n(534) 235-9019 or abrunn@wrtp.org \nLearn More:\n                \n                        Name(Required)\n                            \n                            \n                                                    \n                                                    First\n                                                \n                            \n                            \n                                                    \n                                                    Last\n                                                \n                            \n                        Email(Required)\n                            \n                        Phone(Required)Date of Birth(Required)\n                            \n                            MM slash DD slash YYYY\n                        \n                        Message(Required)\n          \n            \n            \n            \n            \n            \n            \n            \n            \n            \n            \n            \n            \n            \n        \n                        \n                        \nWRTP | BIG STEP is an equal opportunity employer and service provider and prohibits discrimination and harassment of any type without regard to race\, color\, religion\, age\, sex\, national origin\, disability status\, genetics\, protected veteran status\, sexual orientation\, gender identity or expression\, or any other characteristic protected by federal\, state\, or local laws in any of its activities or operations. \nReasonable accommodations are available to ensure that people with disabilities have an equal opportunity to enjoy programs\, services\, and activities. \nTo request information in an alternate format\, including language assistance or translation of the information\, please contact us at (414) 342-9787. Deaf\, hard-of-hearing\, or speech-impaired callers can contact us through Wisconsin Relay Service at 7-1-1.
URL:https://wrtp.org/event/2026-summer-trades-academy-eau-claire/2026-06-24/
LOCATION:UA Local 434 Union Office & Training Facilities\, W3380 State Rd 37\, Eau Claire\, Wisconsin\, 54701
ATTACH;FMTTYPE=image/jpeg:https://wrtp.org/wp-content/uploads/2026/02/2026-Summer-Trades-Academy-Eau-Claire.jpg
END:VEVENT
BEGIN:VEVENT
DTSTART;TZID=America/Chicago:20260625T080000
DTEND;TZID=America/Chicago:20260625T140000
DTSTAMP:20260421T201723
CREATED:20260217T203122Z
LAST-MODIFIED:20260218T202443Z
UID:10006600-1782374400-1782396000@wrtp.org
SUMMARY:2026 Summer Trades Academy: Eau Claire
DESCRIPTION:Current High School Juniors & Seniors: Want to learn more about a career in the skilled trades? \nTry WRTP | BIG STEP’s 2026 Eau Claire Summer Trades Academy this June. Get exposure and explore the career options in the construction skilled trades! \n\nVisit trade halls and contractor facilities\nWatch live demonstrations\nParticipate in hands-on activities\nLearn about the apprenticeship process in union construction\n\nDates:\nMonday\, June 22 – Friday\, June 26 | 8 AM – 2 PM \nRegistration required by June 5\, 2026 \nRequirements:\nMust attend an info session with a parent or guardian and complete the registration process to participate in the Summer Trades Academy in June. \nContact Annie Brunn for more info:\n(534) 235-9019 or abrunn@wrtp.org \nLearn More:\n                \n                        Name(Required)\n                            \n                            \n                                                    \n                                                    First\n                                                \n                            \n                            \n                                                    \n                                                    Last\n                                                \n                            \n                        Email(Required)\n                            \n                        Phone(Required)Date of Birth(Required)\n                            \n                            MM slash DD slash YYYY\n                        \n                        Message(Required)\n          \n            \n            \n            \n            \n            \n            \n            \n            \n            \n            \n            \n            \n            \n        \n                        \n                        \nWRTP | BIG STEP is an equal opportunity employer and service provider and prohibits discrimination and harassment of any type without regard to race\, color\, religion\, age\, sex\, national origin\, disability status\, genetics\, protected veteran status\, sexual orientation\, gender identity or expression\, or any other characteristic protected by federal\, state\, or local laws in any of its activities or operations. \nReasonable accommodations are available to ensure that people with disabilities have an equal opportunity to enjoy programs\, services\, and activities. \nTo request information in an alternate format\, including language assistance or translation of the information\, please contact us at (414) 342-9787. Deaf\, hard-of-hearing\, or speech-impaired callers can contact us through Wisconsin Relay Service at 7-1-1.
URL:https://wrtp.org/event/2026-summer-trades-academy-eau-claire/2026-06-25/
LOCATION:UA Local 434 Union Office & Training Facilities\, W3380 State Rd 37\, Eau Claire\, Wisconsin\, 54701
ATTACH;FMTTYPE=image/jpeg:https://wrtp.org/wp-content/uploads/2026/02/2026-Summer-Trades-Academy-Eau-Claire.jpg
END:VEVENT
BEGIN:VEVENT
DTSTART;TZID=America/Chicago:20260626T080000
DTEND;TZID=America/Chicago:20260626T140000
DTSTAMP:20260421T201723
CREATED:20260217T203122Z
LAST-MODIFIED:20260218T202443Z
UID:10006601-1782460800-1782482400@wrtp.org
SUMMARY:2026 Summer Trades Academy: Eau Claire
DESCRIPTION:Current High School Juniors & Seniors: Want to learn more about a career in the skilled trades? \nTry WRTP | BIG STEP’s 2026 Eau Claire Summer Trades Academy this June. Get exposure and explore the career options in the construction skilled trades! \n\nVisit trade halls and contractor facilities\nWatch live demonstrations\nParticipate in hands-on activities\nLearn about the apprenticeship process in union construction\n\nDates:\nMonday\, June 22 – Friday\, June 26 | 8 AM – 2 PM \nRegistration required by June 5\, 2026 \nRequirements:\nMust attend an info session with a parent or guardian and complete the registration process to participate in the Summer Trades Academy in June. \nContact Annie Brunn for more info:\n(534) 235-9019 or abrunn@wrtp.org \nLearn More:\n                \n                        Name(Required)\n                            \n                            \n                                                    \n                                                    First\n                                                \n                            \n                            \n                                                    \n                                                    Last\n                                                \n                            \n                        Email(Required)\n                            \n                        Phone(Required)Date of Birth(Required)\n                            \n                            MM slash DD slash YYYY\n                        \n                        Message(Required)\n          \n            \n            \n            \n            \n            \n            \n            \n            \n            \n            \n            \n            \n            \n        \n                        \n                        \nWRTP | BIG STEP is an equal opportunity employer and service provider and prohibits discrimination and harassment of any type without regard to race\, color\, religion\, age\, sex\, national origin\, disability status\, genetics\, protected veteran status\, sexual orientation\, gender identity or expression\, or any other characteristic protected by federal\, state\, or local laws in any of its activities or operations. \nReasonable accommodations are available to ensure that people with disabilities have an equal opportunity to enjoy programs\, services\, and activities. \nTo request information in an alternate format\, including language assistance or translation of the information\, please contact us at (414) 342-9787. Deaf\, hard-of-hearing\, or speech-impaired callers can contact us through Wisconsin Relay Service at 7-1-1.
URL:https://wrtp.org/event/2026-summer-trades-academy-eau-claire/2026-06-26/
LOCATION:UA Local 434 Union Office & Training Facilities\, W3380 State Rd 37\, Eau Claire\, Wisconsin\, 54701
ATTACH;FMTTYPE=image/jpeg:https://wrtp.org/wp-content/uploads/2026/02/2026-Summer-Trades-Academy-Eau-Claire.jpg
END:VEVENT
END:VCALENDAR