BEGIN:VCALENDAR
VERSION:2.0
PRODID:-//WRTP | BIG STEP - ECPv6.15.20//NONSGML v1.0//EN
CALSCALE:GREGORIAN
METHOD:PUBLISH
X-WR-CALNAME:WRTP | BIG STEP
X-ORIGINAL-URL:https://wrtp.org
X-WR-CALDESC:Events for WRTP | BIG STEP
REFRESH-INTERVAL;VALUE=DURATION:PT1H
X-Robots-Tag:noindex
X-PUBLISHED-TTL:PT1H
BEGIN:VTIMEZONE
TZID:America/Chicago
BEGIN:DAYLIGHT
TZOFFSETFROM:-0600
TZOFFSETTO:-0500
TZNAME:CDT
DTSTART:20220313T080000
END:DAYLIGHT
BEGIN:STANDARD
TZOFFSETFROM:-0500
TZOFFSETTO:-0600
TZNAME:CST
DTSTART:20221106T070000
END:STANDARD
BEGIN:DAYLIGHT
TZOFFSETFROM:-0600
TZOFFSETTO:-0500
TZNAME:CDT
DTSTART:20230312T080000
END:DAYLIGHT
BEGIN:STANDARD
TZOFFSETFROM:-0500
TZOFFSETTO:-0600
TZNAME:CST
DTSTART:20231105T070000
END:STANDARD
BEGIN:DAYLIGHT
TZOFFSETFROM:-0600
TZOFFSETTO:-0500
TZNAME:CDT
DTSTART:20240310T080000
END:DAYLIGHT
BEGIN:STANDARD
TZOFFSETFROM:-0500
TZOFFSETTO:-0600
TZNAME:CST
DTSTART:20241103T070000
END:STANDARD
END:VTIMEZONE
BEGIN:VEVENT
DTSTART;VALUE=DATE:20230816
DTEND;VALUE=DATE:20230817
DTSTAMP:20260420T080341
CREATED:20230801T211348Z
LAST-MODIFIED:20230816T171244Z
UID:10000303-1692144000-1692230399@wrtp.org
SUMMARY:Entry-Level Manufacturing Skills Training Class | Madison
DESCRIPTION:The ELMS Program is a 320-hour manufacturing preparation program geared toward preparing individuals to meet the workforce needs of manufacturers in the area. WRTP | BIG STEP works to prepare students for employment in various manufacturing positions\, including assembly\, forklift operation\, as well as other opportunities. \nClasses include: \n\nHAZ WOPR Certification\nOSHA 30 Certification\nFour Hours Daily On-the-Job Training\n\nQualifications for training: \n\nValid Driver’s License\nProof of High School Graduation\nDrug-Free (ability to pass a drug screen)\n\nWRTP | BIG STEP provides you with the connections and skills needed for careers in the manufacturing industry. \nProgram Orientation \nAugust 1\, 2023 at 9 AM\nAugust 11\, 2023 at 4 PM\nAugust 16\, 2023 at 5 PM\n1915 S Stoughton Rd; Madison\, WI \nTraining \nAugust 28\, 2023 – October 6\, 2023
URL:https://wrtp.org/event/entry-level-manufacturing-skills-training-class-madison-registration/
LOCATION:ELMS Training\, 1915 S Stoughton Rd\, Madison\, WI\, 53718\, United States
ATTACH;FMTTYPE=image/jpeg:https://wrtp.org/wp-content/uploads/2023/08/elms-8.jpg
END:VEVENT
END:VCALENDAR