BEGIN:VCALENDAR
VERSION:2.0
PRODID:-//WRTP | BIG STEP - ECPv6.15.20//NONSGML v1.0//EN
CALSCALE:GREGORIAN
METHOD:PUBLISH
X-WR-CALNAME:WRTP | BIG STEP
X-ORIGINAL-URL:https://wrtp.org
X-WR-CALDESC:Events for WRTP | BIG STEP
REFRESH-INTERVAL;VALUE=DURATION:PT1H
X-Robots-Tag:noindex
X-PUBLISHED-TTL:PT1H
BEGIN:VTIMEZONE
TZID:America/Chicago
BEGIN:DAYLIGHT
TZOFFSETFROM:-0600
TZOFFSETTO:-0500
TZNAME:CDT
DTSTART:20250309T080000
END:DAYLIGHT
BEGIN:STANDARD
TZOFFSETFROM:-0500
TZOFFSETTO:-0600
TZNAME:CST
DTSTART:20251102T070000
END:STANDARD
BEGIN:DAYLIGHT
TZOFFSETFROM:-0600
TZOFFSETTO:-0500
TZNAME:CDT
DTSTART:20260308T080000
END:DAYLIGHT
BEGIN:STANDARD
TZOFFSETFROM:-0500
TZOFFSETTO:-0600
TZNAME:CST
DTSTART:20261101T070000
END:STANDARD
BEGIN:DAYLIGHT
TZOFFSETFROM:-0600
TZOFFSETTO:-0500
TZNAME:CDT
DTSTART:20270314T080000
END:DAYLIGHT
BEGIN:STANDARD
TZOFFSETFROM:-0500
TZOFFSETTO:-0600
TZNAME:CST
DTSTART:20271107T070000
END:STANDARD
END:VTIMEZONE
BEGIN:VEVENT
DTSTART;TZID=America/Chicago:20260603T140000
DTEND;TZID=America/Chicago:20260603T150000
DTSTAMP:20260421T160106
CREATED:20260217T173119Z
LAST-MODIFIED:20260219T160843Z
UID:10006162-1780495200-1780498800@wrtp.org
SUMMARY:EVSTEP Information Session: Milwaukee
DESCRIPTION:Work toward a career in construction. Our short-term training program provides instruction for electrical and pre-apprenticeship certification at no cost to you! \nAll classes are held Monday – Friday from 9 AM – 2 PM at WRTP | BIG STEP Milwaukee. \nClasses Include: \n\nOSHA certification\nConstruction mathematics\nElectrician coursework\nHands-on training\nTrades application assistance\nEmployer engagement & networking\n\nRequirements: \n\nValid driver’s license or the ability to obtain a license\nHigh school diploma\, GED\, or HSED\nSocial Security card\nUpdated resume\nDigital literacy\nDrug-free (ability to PASS a drug screen)\nCompleted ACCUPLACER test\n\nChoose a Cohort: \nSpring 2026 Cohort\nInfo Session: March 24 or March 26 at 2 PM (must attend 1)\nClass Schedule: April 6 – May 29 \nSummer 2026 Cohort\nInfo Session: June 3 or June 10 at 2 PM (must attend 1)\nClass Schedule: June 22 – August 14 \nFall 2026 Cohort\nInfo Session: August 19 or August 26 at 2 PM (must attend 1)\nClass Schedule: September 7 – October 30 \nWinter 2026 Cohort\nInfo Session: November 11 or November 18 at 2 PM (must attend 1)\nClass Schedule: November 30 – January 29 \nQuestions? Contact De’Borah:\n(414) 899-1443 or dboyd@wrtp.org  \n*The Skilled Trades Employment Program is available at no cost for eligible candidates. The employers recruiting for this opportunity are all equal opportunity employers. This material is based upon work supported by the U.S. Department of Energy’s Office of Energy Efficiency and Renewable Energy (EERE) under the Award Number DE-EE0011256. The views expressed herein do not necessarily represent the views of the U.S. Department of Energy or the United States Government. \nLearn More:\n\n                \n                        Name(Required)\n                            \n                            \n                                                    \n                                                    First\n                                                \n                            \n                            \n                                                    \n                                                    Last\n                                                \n                            \n                        Email(Required)\n                            \n                        Phone(Required)Which cohort are you interested in?(Required)Spring 2026Summer 2026Fall 2026Winter 2026Your Message(Required)\n          \n            \n            \n            \n            \n            \n            \n            \n            \n            \n            \n            \n            \n            \n        \n                        \n                        \nWRTP | BIG STEP is an equal opportunity employer and service provider and prohibits discrimination and harassment of any type without regard to race\, color\, religion\, age\, sex\, national origin\, disability status\, genetics\, protected veteran status\, sexual orientation\, gender identity or expression\, or any other characteristic protected by federal\, state\, or local laws in any of its activities or operations. \nReasonable accommodations are available to ensure that people with disabilities have an equal opportunity to enjoy programs\, services\, and activities. \nTo request information in an alternate format\, including language assistance or translation of the information\, please contact us at (414) 342-9787. Deaf\, hard-of-hearing\, or speech-impaired callers can contact us through Wisconsin Relay Service at 7-1-1.
URL:https://wrtp.org/event/evstep-information-session-milwaukee/2026-06-03/
LOCATION:Milwaukee WRTP | BIG STEP\, 3841 West Wisconsin Ave\, Milwaukee\, WI\, 53208\, United States
ATTACH;FMTTYPE=image/jpeg:https://wrtp.org/wp-content/uploads/2026/02/EVSTEP-Information-Session-Milwaukee.jpg
END:VEVENT
BEGIN:VEVENT
DTSTART;TZID=America/Chicago:20260610T140000
DTEND;TZID=America/Chicago:20260610T150000
DTSTAMP:20260421T160106
CREATED:20260217T173119Z
LAST-MODIFIED:20260219T160843Z
UID:10006163-1781100000-1781103600@wrtp.org
SUMMARY:EVSTEP Information Session: Milwaukee
DESCRIPTION:Work toward a career in construction. Our short-term training program provides instruction for electrical and pre-apprenticeship certification at no cost to you! \nAll classes are held Monday – Friday from 9 AM – 2 PM at WRTP | BIG STEP Milwaukee. \nClasses Include: \n\nOSHA certification\nConstruction mathematics\nElectrician coursework\nHands-on training\nTrades application assistance\nEmployer engagement & networking\n\nRequirements: \n\nValid driver’s license or the ability to obtain a license\nHigh school diploma\, GED\, or HSED\nSocial Security card\nUpdated resume\nDigital literacy\nDrug-free (ability to PASS a drug screen)\nCompleted ACCUPLACER test\n\nChoose a Cohort: \nSpring 2026 Cohort\nInfo Session: March 24 or March 26 at 2 PM (must attend 1)\nClass Schedule: April 6 – May 29 \nSummer 2026 Cohort\nInfo Session: June 3 or June 10 at 2 PM (must attend 1)\nClass Schedule: June 22 – August 14 \nFall 2026 Cohort\nInfo Session: August 19 or August 26 at 2 PM (must attend 1)\nClass Schedule: September 7 – October 30 \nWinter 2026 Cohort\nInfo Session: November 11 or November 18 at 2 PM (must attend 1)\nClass Schedule: November 30 – January 29 \nQuestions? Contact De’Borah:\n(414) 899-1443 or dboyd@wrtp.org  \n*The Skilled Trades Employment Program is available at no cost for eligible candidates. The employers recruiting for this opportunity are all equal opportunity employers. This material is based upon work supported by the U.S. Department of Energy’s Office of Energy Efficiency and Renewable Energy (EERE) under the Award Number DE-EE0011256. The views expressed herein do not necessarily represent the views of the U.S. Department of Energy or the United States Government. \nLearn More:\n                \n                        Name(Required)\n                            \n                            \n                                                    \n                                                    First\n                                                \n                            \n                            \n                                                    \n                                                    Last\n                                                \n                            \n                        Email(Required)\n                            \n                        Phone(Required)Which cohort are you interested in?(Required)Spring 2026Summer 2026Fall 2026Winter 2026Your Message(Required)\n          \n            \n            \n            \n            \n            \n            \n            \n            \n            \n            \n            \n            \n            \n        \n                        \n                        \nWRTP | BIG STEP is an equal opportunity employer and service provider and prohibits discrimination and harassment of any type without regard to race\, color\, religion\, age\, sex\, national origin\, disability status\, genetics\, protected veteran status\, sexual orientation\, gender identity or expression\, or any other characteristic protected by federal\, state\, or local laws in any of its activities or operations. \nReasonable accommodations are available to ensure that people with disabilities have an equal opportunity to enjoy programs\, services\, and activities. \nTo request information in an alternate format\, including language assistance or translation of the information\, please contact us at (414) 342-9787. Deaf\, hard-of-hearing\, or speech-impaired callers can contact us through Wisconsin Relay Service at 7-1-1.
URL:https://wrtp.org/event/evstep-information-session-milwaukee/2026-06-10/
LOCATION:Milwaukee WRTP | BIG STEP\, 3841 West Wisconsin Ave\, Milwaukee\, WI\, 53208\, United States
ATTACH;FMTTYPE=image/jpeg:https://wrtp.org/wp-content/uploads/2026/02/EVSTEP-Information-Session-Milwaukee.jpg
END:VEVENT
BEGIN:VEVENT
DTSTART;TZID=America/Chicago:20260819T140000
DTEND;TZID=America/Chicago:20260819T150000
DTSTAMP:20260421T160106
CREATED:20260217T173119Z
LAST-MODIFIED:20260219T160843Z
UID:10006164-1787148000-1787151600@wrtp.org
SUMMARY:EVSTEP Information Session: Milwaukee
DESCRIPTION:Work toward a career in construction. Our short-term training program provides instruction for electrical and pre-apprenticeship certification at no cost to you! \nAll classes are held Monday – Friday from 9 AM – 2 PM at WRTP | BIG STEP Milwaukee. \nClasses Include: \n\nOSHA certification\nConstruction mathematics\nElectrician coursework\nHands-on training\nTrades application assistance\nEmployer engagement & networking\n\nRequirements: \n\nValid driver’s license or the ability to obtain a license\nHigh school diploma\, GED\, or HSED\nSocial Security card\nUpdated resume\nDigital literacy\nDrug-free (ability to PASS a drug screen)\nCompleted ACCUPLACER test\n\nChoose a Cohort: \nSpring 2026 Cohort\nInfo Session: March 24 or March 26 at 2 PM (must attend 1)\nClass Schedule: April 6 – May 29 \nSummer 2026 Cohort\nInfo Session: June 3 or June 10 at 2 PM (must attend 1)\nClass Schedule: June 22 – August 14 \nFall 2026 Cohort\nInfo Session: August 19 or August 26 at 2 PM (must attend 1)\nClass Schedule: September 7 – October 30 \nWinter 2026 Cohort\nInfo Session: November 11 or November 18 at 2 PM (must attend 1)\nClass Schedule: November 30 – January 29 \nQuestions? Contact De’Borah:\n(414) 899-1443 or dboyd@wrtp.org  \n*The Skilled Trades Employment Program is available at no cost for eligible candidates. The employers recruiting for this opportunity are all equal opportunity employers. This material is based upon work supported by the U.S. Department of Energy’s Office of Energy Efficiency and Renewable Energy (EERE) under the Award Number DE-EE0011256. The views expressed herein do not necessarily represent the views of the U.S. Department of Energy or the United States Government. \nLearn More:\n                \n                        Name(Required)\n                            \n                            \n                                                    \n                                                    First\n                                                \n                            \n                            \n                                                    \n                                                    Last\n                                                \n                            \n                        Email(Required)\n                            \n                        Phone(Required)Which cohort are you interested in?(Required)Spring 2026Summer 2026Fall 2026Winter 2026Your Message(Required)\n          \n            \n            \n            \n            \n            \n            \n            \n            \n            \n            \n            \n            \n            \n        \n                        \n                        \nWRTP | BIG STEP is an equal opportunity employer and service provider and prohibits discrimination and harassment of any type without regard to race\, color\, religion\, age\, sex\, national origin\, disability status\, genetics\, protected veteran status\, sexual orientation\, gender identity or expression\, or any other characteristic protected by federal\, state\, or local laws in any of its activities or operations. \nReasonable accommodations are available to ensure that people with disabilities have an equal opportunity to enjoy programs\, services\, and activities. \nTo request information in an alternate format\, including language assistance or translation of the information\, please contact us at (414) 342-9787. Deaf\, hard-of-hearing\, or speech-impaired callers can contact us through Wisconsin Relay Service at 7-1-1.
URL:https://wrtp.org/event/evstep-information-session-milwaukee/2026-08-19/
LOCATION:Milwaukee WRTP | BIG STEP\, 3841 West Wisconsin Ave\, Milwaukee\, WI\, 53208\, United States
ATTACH;FMTTYPE=image/jpeg:https://wrtp.org/wp-content/uploads/2026/02/EVSTEP-Information-Session-Milwaukee.jpg
END:VEVENT
BEGIN:VEVENT
DTSTART;TZID=America/Chicago:20260826T140000
DTEND;TZID=America/Chicago:20260826T150000
DTSTAMP:20260421T160106
CREATED:20260217T173119Z
LAST-MODIFIED:20260219T160843Z
UID:10006165-1787752800-1787756400@wrtp.org
SUMMARY:EVSTEP Information Session: Milwaukee
DESCRIPTION:Work toward a career in construction. Our short-term training program provides instruction for electrical and pre-apprenticeship certification at no cost to you! \nAll classes are held Monday – Friday from 9 AM – 2 PM at WRTP | BIG STEP Milwaukee. \nClasses Include: \n\nOSHA certification\nConstruction mathematics\nElectrician coursework\nHands-on training\nTrades application assistance\nEmployer engagement & networking\n\nRequirements: \n\nValid driver’s license or the ability to obtain a license\nHigh school diploma\, GED\, or HSED\nSocial Security card\nUpdated resume\nDigital literacy\nDrug-free (ability to PASS a drug screen)\nCompleted ACCUPLACER test\n\nChoose a Cohort: \nSpring 2026 Cohort\nInfo Session: March 24 or March 26 at 2 PM (must attend 1)\nClass Schedule: April 6 – May 29 \nSummer 2026 Cohort\nInfo Session: June 3 or June 10 at 2 PM (must attend 1)\nClass Schedule: June 22 – August 14 \nFall 2026 Cohort\nInfo Session: August 19 or August 26 at 2 PM (must attend 1)\nClass Schedule: September 7 – October 30 \nWinter 2026 Cohort\nInfo Session: November 11 or November 18 at 2 PM (must attend 1)\nClass Schedule: November 30 – January 29 \nQuestions? Contact De’Borah:\n(414) 899-1443 or dboyd@wrtp.org  \n*The Skilled Trades Employment Program is available at no cost for eligible candidates. The employers recruiting for this opportunity are all equal opportunity employers. This material is based upon work supported by the U.S. Department of Energy’s Office of Energy Efficiency and Renewable Energy (EERE) under the Award Number DE-EE0011256. The views expressed herein do not necessarily represent the views of the U.S. Department of Energy or the United States Government. \nLearn More:\n                \n                        Name(Required)\n                            \n                            \n                                                    \n                                                    First\n                                                \n                            \n                            \n                                                    \n                                                    Last\n                                                \n                            \n                        Email(Required)\n                            \n                        Phone(Required)Which cohort are you interested in?(Required)Spring 2026Summer 2026Fall 2026Winter 2026Your Message(Required)\n          \n            \n            \n            \n            \n            \n            \n            \n            \n            \n            \n            \n            \n            \n        \n                        \n                        \nWRTP | BIG STEP is an equal opportunity employer and service provider and prohibits discrimination and harassment of any type without regard to race\, color\, religion\, age\, sex\, national origin\, disability status\, genetics\, protected veteran status\, sexual orientation\, gender identity or expression\, or any other characteristic protected by federal\, state\, or local laws in any of its activities or operations. \nReasonable accommodations are available to ensure that people with disabilities have an equal opportunity to enjoy programs\, services\, and activities. \nTo request information in an alternate format\, including language assistance or translation of the information\, please contact us at (414) 342-9787. Deaf\, hard-of-hearing\, or speech-impaired callers can contact us through Wisconsin Relay Service at 7-1-1.
URL:https://wrtp.org/event/evstep-information-session-milwaukee/2026-08-26/
LOCATION:Milwaukee WRTP | BIG STEP\, 3841 West Wisconsin Ave\, Milwaukee\, WI\, 53208\, United States
ATTACH;FMTTYPE=image/jpeg:https://wrtp.org/wp-content/uploads/2026/02/EVSTEP-Information-Session-Milwaukee.jpg
END:VEVENT
BEGIN:VEVENT
DTSTART;TZID=America/Chicago:20261111T140000
DTEND;TZID=America/Chicago:20261111T150000
DTSTAMP:20260421T160106
CREATED:20260217T173119Z
LAST-MODIFIED:20260219T160843Z
UID:10006166-1794405600-1794409200@wrtp.org
SUMMARY:EVSTEP Information Session: Milwaukee
DESCRIPTION:Work toward a career in construction. Our short-term training program provides instruction for electrical and pre-apprenticeship certification at no cost to you! \nAll classes are held Monday – Friday from 9 AM – 2 PM at WRTP | BIG STEP Milwaukee. \nClasses Include: \n\nOSHA certification\nConstruction mathematics\nElectrician coursework\nHands-on training\nTrades application assistance\nEmployer engagement & networking\n\nRequirements: \n\nValid driver’s license or the ability to obtain a license\nHigh school diploma\, GED\, or HSED\nSocial Security card\nUpdated resume\nDigital literacy\nDrug-free (ability to PASS a drug screen)\nCompleted ACCUPLACER test\n\nChoose a Cohort: \nSpring 2026 Cohort\nInfo Session: March 24 or March 26 at 2 PM (must attend 1)\nClass Schedule: April 6 – May 29 \nSummer 2026 Cohort\nInfo Session: June 3 or June 10 at 2 PM (must attend 1)\nClass Schedule: June 22 – August 14 \nFall 2026 Cohort\nInfo Session: August 19 or August 26 at 2 PM (must attend 1)\nClass Schedule: September 7 – October 30 \nWinter 2026 Cohort\nInfo Session: November 11 or November 18 at 2 PM (must attend 1)\nClass Schedule: November 30 – January 29 \nQuestions? Contact De’Borah:\n(414) 899-1443 or dboyd@wrtp.org  \n*The Skilled Trades Employment Program is available at no cost for eligible candidates. The employers recruiting for this opportunity are all equal opportunity employers. This material is based upon work supported by the U.S. Department of Energy’s Office of Energy Efficiency and Renewable Energy (EERE) under the Award Number DE-EE0011256. The views expressed herein do not necessarily represent the views of the U.S. Department of Energy or the United States Government. \nLearn More:\n                \n                        Name(Required)\n                            \n                            \n                                                    \n                                                    First\n                                                \n                            \n                            \n                                                    \n                                                    Last\n                                                \n                            \n                        Email(Required)\n                            \n                        Phone(Required)Which cohort are you interested in?(Required)Spring 2026Summer 2026Fall 2026Winter 2026Your Message(Required)\n          \n            \n            \n            \n            \n            \n            \n            \n            \n            \n            \n            \n            \n            \n        \n                        \n                        \nWRTP | BIG STEP is an equal opportunity employer and service provider and prohibits discrimination and harassment of any type without regard to race\, color\, religion\, age\, sex\, national origin\, disability status\, genetics\, protected veteran status\, sexual orientation\, gender identity or expression\, or any other characteristic protected by federal\, state\, or local laws in any of its activities or operations. \nReasonable accommodations are available to ensure that people with disabilities have an equal opportunity to enjoy programs\, services\, and activities. \nTo request information in an alternate format\, including language assistance or translation of the information\, please contact us at (414) 342-9787. Deaf\, hard-of-hearing\, or speech-impaired callers can contact us through Wisconsin Relay Service at 7-1-1.
URL:https://wrtp.org/event/evstep-information-session-milwaukee/2026-11-11/
LOCATION:Milwaukee WRTP | BIG STEP\, 3841 West Wisconsin Ave\, Milwaukee\, WI\, 53208\, United States
ATTACH;FMTTYPE=image/jpeg:https://wrtp.org/wp-content/uploads/2026/02/EVSTEP-Information-Session-Milwaukee.jpg
END:VEVENT
BEGIN:VEVENT
DTSTART;TZID=America/Chicago:20261118T140000
DTEND;TZID=America/Chicago:20261118T150000
DTSTAMP:20260421T160106
CREATED:20260217T173119Z
LAST-MODIFIED:20260219T160843Z
UID:10006167-1795010400-1795014000@wrtp.org
SUMMARY:EVSTEP Information Session: Milwaukee
DESCRIPTION:Work toward a career in construction. Our short-term training program provides instruction for electrical and pre-apprenticeship certification at no cost to you! \nAll classes are held Monday – Friday from 9 AM – 2 PM at WRTP | BIG STEP Milwaukee. \nClasses Include: \n\nOSHA certification\nConstruction mathematics\nElectrician coursework\nHands-on training\nTrades application assistance\nEmployer engagement & networking\n\nRequirements: \n\nValid driver’s license or the ability to obtain a license\nHigh school diploma\, GED\, or HSED\nSocial Security card\nUpdated resume\nDigital literacy\nDrug-free (ability to PASS a drug screen)\nCompleted ACCUPLACER test\n\nChoose a Cohort: \nSpring 2026 Cohort\nInfo Session: March 24 or March 26 at 2 PM (must attend 1)\nClass Schedule: April 6 – May 29 \nSummer 2026 Cohort\nInfo Session: June 3 or June 10 at 2 PM (must attend 1)\nClass Schedule: June 22 – August 14 \nFall 2026 Cohort\nInfo Session: August 19 or August 26 at 2 PM (must attend 1)\nClass Schedule: September 7 – October 30 \nWinter 2026 Cohort\nInfo Session: November 11 or November 18 at 2 PM (must attend 1)\nClass Schedule: November 30 – January 29 \nQuestions? Contact De’Borah:\n(414) 899-1443 or dboyd@wrtp.org  \n*The Skilled Trades Employment Program is available at no cost for eligible candidates. The employers recruiting for this opportunity are all equal opportunity employers. This material is based upon work supported by the U.S. Department of Energy’s Office of Energy Efficiency and Renewable Energy (EERE) under the Award Number DE-EE0011256. The views expressed herein do not necessarily represent the views of the U.S. Department of Energy or the United States Government. \nLearn More:\n                \n                        Name(Required)\n                            \n                            \n                                                    \n                                                    First\n                                                \n                            \n                            \n                                                    \n                                                    Last\n                                                \n                            \n                        Email(Required)\n                            \n                        Phone(Required)Which cohort are you interested in?(Required)Spring 2026Summer 2026Fall 2026Winter 2026Your Message(Required)\n          \n            \n            \n            \n            \n            \n            \n            \n            \n            \n            \n            \n            \n            \n        \n                        \n                        \nWRTP | BIG STEP is an equal opportunity employer and service provider and prohibits discrimination and harassment of any type without regard to race\, color\, religion\, age\, sex\, national origin\, disability status\, genetics\, protected veteran status\, sexual orientation\, gender identity or expression\, or any other characteristic protected by federal\, state\, or local laws in any of its activities or operations. \nReasonable accommodations are available to ensure that people with disabilities have an equal opportunity to enjoy programs\, services\, and activities. \nTo request information in an alternate format\, including language assistance or translation of the information\, please contact us at (414) 342-9787. Deaf\, hard-of-hearing\, or speech-impaired callers can contact us through Wisconsin Relay Service at 7-1-1.
URL:https://wrtp.org/event/evstep-information-session-milwaukee/2026-11-18/
LOCATION:Milwaukee WRTP | BIG STEP\, 3841 West Wisconsin Ave\, Milwaukee\, WI\, 53208\, United States
ATTACH;FMTTYPE=image/jpeg:https://wrtp.org/wp-content/uploads/2026/02/EVSTEP-Information-Session-Milwaukee.jpg
END:VEVENT
END:VCALENDAR